BEGIN:VCALENDAR
VERSION:2.0
PRODID:-//PräventionsPraxis - ECPv5.14.2//NONSGML v1.0//EN
CALSCALE:GREGORIAN
METHOD:PUBLISH
X-WR-CALNAME:PräventionsPraxis
X-ORIGINAL-URL:http://praeventionspraxis.at
X-WR-CALDESC:Veranstaltungen für PräventionsPraxis
REFRESH-INTERVAL;VALUE=DURATION:PT1H
X-Robots-Tag:noindex
X-PUBLISHED-TTL:PT1H
BEGIN:VTIMEZONE
TZID:Europe/Vienna
BEGIN:DAYLIGHT
TZOFFSETFROM:+0100
TZOFFSETTO:+0200
TZNAME:CEST
DTSTART:20200329T010000
END:DAYLIGHT
BEGIN:STANDARD
TZOFFSETFROM:+0200
TZOFFSETTO:+0100
TZNAME:CET
DTSTART:20201025T010000
END:STANDARD
END:VTIMEZONE
BEGIN:VEVENT
DTSTART;TZID=Europe/Vienna:20200330T180000
DTEND;TZID=Europe/Vienna:20200330T193000
DTSTAMP:20260424T204515
CREATED:20200328T220731Z
LAST-MODIFIED:20200331T145033Z
UID:188-1585591200-1585596600@praeventionspraxis.at
SUMMARY:Ideen und Mut zur Veränderung
DESCRIPTION:! Online-Schulung !\nSeit vielen Jahren beschäftige ich mich mit den wunderbaren Ideen\, Lösungen und UmdenkAnsätzen von dōTERRA. \nSo viel was in dieser Zeit alles sich VerÄndert hat.\nIdeen\, welche neue Lösungsansätze und Herangehensweisen ermöglicht haben! \n  \nUnd gerade JETZT braucht es IDEEN und MUT zur VerÄnderung! \n  \nWie kannst Du auch EINFACH in die wunderbare Welt der ätherischen Öle von dōTERRA starten? \nErfahre an diesem Abend in entspannter gechillter SofaRunde\, wie EINFACH der Start in diese wunderbare Welt der dōTERRA ätherischen Öle ist! \nUnterstütze Deine Liebsten und Deine Gesundheit – mit natürlichen Lösungen und Ideen. \nPräsentiert von mir und auch anderen Expertinnen und Experten! \nWir teilen hier mit Dir all meine Erfahrungen der letzten Jahre!\nErfahre mehr über die besonderen puren ätherischen Öle\, was sie können und wie man sie verwendet. \n+ Die Online-Schulung ist kostenlos.\n+ Exklusiv für Personen ohne eigenem dōTERRA Konto und Mitglieder des der jeweiligen LeaderTeams.\n+ für alle Menschen\, die für sich selbst\, speziell JETZT präventiv aktiv sein wollen! \nIch freue mich auf Dein Sein. \n  \nDurch den Abend führt:\nGernot Schürer-Waldheim\, MBA.\n\nChiropraktiker\, AromaExperte\nVorstand WohlnessAkademie
URL:http://praeventionspraxis.at/event/30maerz/
LOCATION:Online\, ZoomCall
ATTACH;FMTTYPE=image/png:http://praeventionspraxis.at/wp-content/uploads/2020/03/download-ebook-PP.png
ORGANIZER;CN="WohlnessAkademie%20-%20Gernot%20Sch%C3%BCrer-Waldheim":MAILTO:event@praeventionspraxis.at
END:VEVENT
END:VCALENDAR