BEGIN:VCALENDAR
VERSION:2.0
PRODID:-//PräventionsPraxis - ECPv5.14.2//NONSGML v1.0//EN
CALSCALE:GREGORIAN
METHOD:PUBLISH
X-WR-CALNAME:PräventionsPraxis
X-ORIGINAL-URL:http://praeventionspraxis.at
X-WR-CALDESC:Veranstaltungen für PräventionsPraxis
REFRESH-INTERVAL;VALUE=DURATION:PT1H
X-Robots-Tag:noindex
X-PUBLISHED-TTL:PT1H
BEGIN:VTIMEZONE
TZID:Europe/Vienna
BEGIN:DAYLIGHT
TZOFFSETFROM:+0100
TZOFFSETTO:+0200
TZNAME:CEST
DTSTART:20200329T010000
END:DAYLIGHT
BEGIN:STANDARD
TZOFFSETFROM:+0200
TZOFFSETTO:+0100
TZNAME:CET
DTSTART:20201025T010000
END:STANDARD
END:VTIMEZONE
BEGIN:VEVENT
DTSTART;TZID=Europe/Vienna:20200403T200000
DTEND;TZID=Europe/Vienna:20200403T210000
DTSTAMP:20260424T184516
CREATED:20200403T132908Z
LAST-MODIFIED:20200403T143013Z
UID:348-1585944000-1585947600@praeventionspraxis.at
SUMMARY:dōTERRA - BusinessTalk
DESCRIPTION:Ich darf Dich recht herzlich zum 1. dōTERRA BusinessTalk einladen. \nMöchtest du erfahren\, wie unsere wunderbaren Leader\, Sabine BUCHNER & Mario JOELLY arbeiten\, was ihr Erfolgsgeheimnisse ist? \nDann freuen wir uns\, Dich bei diesem Call inspirieren zu dürfen! \nHier bitte anmelden:\nLINK zum ZoomCall
URL:http://praeventionspraxis.at/event/doterra-businesstalk/
LOCATION:Online\, ZoomCall
ATTACH;FMTTYPE=image/jpeg:http://praeventionspraxis.at/wp-content/uploads/2020/04/Sabine-Business-Talk-Teil-1.jpg
END:VEVENT
END:VCALENDAR