BEGIN:VCALENDAR
VERSION:2.0
PRODID:-//PräventionsPraxis - ECPv5.14.2//NONSGML v1.0//EN
CALSCALE:GREGORIAN
METHOD:PUBLISH
X-WR-CALNAME:PräventionsPraxis
X-ORIGINAL-URL:http://praeventionspraxis.at
X-WR-CALDESC:Veranstaltungen für PräventionsPraxis
REFRESH-INTERVAL;VALUE=DURATION:PT1H
X-Robots-Tag:noindex
X-PUBLISHED-TTL:PT1H
BEGIN:VTIMEZONE
TZID:Europe/Vienna
BEGIN:DAYLIGHT
TZOFFSETFROM:+0100
TZOFFSETTO:+0200
TZNAME:CEST
DTSTART:20200329T010000
END:DAYLIGHT
BEGIN:STANDARD
TZOFFSETFROM:+0200
TZOFFSETTO:+0100
TZNAME:CET
DTSTART:20201025T010000
END:STANDARD
END:VTIMEZONE
BEGIN:VEVENT
DTSTART;TZID=Europe/Vienna:20200508T190000
DTEND;TZID=Europe/Vienna:20200508T203000
DTSTAMP:20260424T165512
CREATED:20200508T131608Z
LAST-MODIFIED:20200508T131725Z
UID:409-1588964400-1588969800@praeventionspraxis.at
SUMMARY:AromaExperten Talk
DESCRIPTION:Spezial AromaExperten Zoom Talk!\nLernen von den BESTEN!\n\nSei am Freitag dem 08.Mai um 19Uhr dabei\, wenn Lil Johnson Shepherd mit uns über dōTERRA und ihre Expertisen spricht! \nLil ist die dōTERRA Leaderin der ersten Stunde! Keine kennt dōTERRA besser als Sie! \n  \nSie wird mit uns folgende Themen ganz genau anschauen! \n\nDie Stärke von dōTERRA\, und Lil’s Schatzkiste an PERSÖNLICHEN Erfahrungen!\nIhre absoluten 3 Lieblingsöle\nSo kommst Du an dein Ziel!\nDer Vergütungsplan von dōTERRA & was Lil daran liebt und täglich begeistert!\n\nSei dabei!\nEin MUSS für:\n* Neu-Einsteiger in die Anwendung ätherischer Öle von dōTERRA\n* dōTERRA Mitglieder aus dem Team „OEHBOPT“ & die Neues von einem Profil dazu lernen möchten\n* Privatpersonen\, Masseure\, Energetiker\, Therapeuten und andere Berufsgruppen\, die ihr Angebot mit ätherischen Ölen erweitern möchten (und noch nicht bei dōTERRA ein Bestellkonto haben!) \ndōTERRA ätherische Öle therapeutischen Grades (CPTG) sind auf körperlicher und emotionaler Ebene hoch wirksam und zählen zu den reinsten\, sichersten und wirksamsten Ölen weltweit. Sie sind 100% reine natürliche aromatische Verbindungen\, die sorgfältig aus Pflanzen extrahiert werden. \nDie Teilnahme ist kostenlos. \nAus Zoom platztechnischen Gründen bitte um Platzreservierung unter dieser Einladung = auch fixe verbindliche Zusage zum Webinar mit Lil bis zum Donnerstag den 08.05. um 17:30 Uhr. \n  \nSIMULTANÜBERSETZUNG ist gegeben!
URL:http://praeventionspraxis.at/event/aromaexperten-talk/
LOCATION:Online\, ZoomCall
ATTACH;FMTTYPE=image/png:http://praeventionspraxis.at/wp-content/uploads/2020/05/Lil.png
ORGANIZER;CN="WohlnessAkademie%20-%20Gernot%20Sch%C3%BCrer-Waldheim":MAILTO:event@praeventionspraxis.at
END:VEVENT
BEGIN:VEVENT
DTSTART;TZID=Europe/Vienna:20200511T190000
DTEND;TZID=Europe/Vienna:20200511T200000
DTSTAMP:20260424T165512
CREATED:20200510T164758Z
LAST-MODIFIED:20200511T161713Z
UID:423-1589223600-1589227200@praeventionspraxis.at
SUMMARY:Start in die Welt von dōTERRA
DESCRIPTION:Einsteiger-Basis Info ! Online-Schulung !\n\n\nSeit vielen Jahren beschäftige ich mich mit den wunderbaren Ideen\, Lösungen und UmdenkAnsätzen von dōTERRA. \nSo viel was in dieser Zeit alles sich VerÄndert hat. \nIdeen\, welche neue Lösungsansätze und Herangehensweisen ermöglicht haben! \n  \n\nGanz EINFACH mit der NATUR neue Eigen-Verantwortung übernehmen!\nWie kannst Du auch EINFACH in die wunderbare Welt der ätherischen Öle von dōTERRA starten? \nErfahre an diesem Abend in entspannter gechillter SofaRunde\, wie EINFACH der Start in diese wunderbare Welt der dōTERRA ätherischen Öle ist! \nUnterstütze Deine Liebsten und Deine Gesundheit – mit natürlichen Lösungen und Ideen. \n  \nDEIN MEHRWERT: \n\nerfahre mehr über die besonderen ätherischen Öle\nwas sie für DICH und DEINE Liebsten könne\nwie Du sie am EINFACHSTEN an- & verwendest\nwas CPTG bedeutet\nwie EINFACH ich auch selbst für mich dōTERRA anwende!\n\n  \nPräsentiert von mir und der dōTERRA Expertin Verena Schrittwieser. \n  \nWir teilen hier mit Dir all unsere Erfahrungen der letzten Jahre! \n+ Die Online-Schulung ist kostenlos.\n+ Exklusiv für Personen ohne eigenem dōTERRA Konto und Mitglieder des jeweiligen LeaderTeams.\n+ für alle Menschen\, die für sich selbst\, speziell JETZT präventiv aktiv sein wollen! \nIch freue mich auf Dein Sein. \n  \nDurch den Abend führt:\nGernot Schürer-Waldheim\, MBA.\nChiropraktiker\, dōTERRA Wellness Coach\, AromaMentor\nVorstand WohlnessAkademie \nVerena Schrittwieser\ndōTERRA Wellness Coach
URL:http://praeventionspraxis.at/event/start-in-die-welt-von-doterra11mai2020/
LOCATION:Online\, ZoomCall
ATTACH;FMTTYPE=image/png:http://praeventionspraxis.at/wp-content/uploads/2020/05/doTERRA-Öl-Hand-Massage.png
ORGANIZER;CN="WohlnessAkademie%20-%20Gernot%20Sch%C3%BCrer-Waldheim":MAILTO:event@praeventionspraxis.at
END:VEVENT
END:VCALENDAR